BEGIN:VCALENDAR
PRODID:-//Microsoft Corporation//Outlook 12.0 MIMEDIR//EN
VERSION:2.0
CALSCALE:GREGORIAN
BEGIN:VEVENT
UID: d1804a57-b65c-43e7-b858-93ca06a66a65
SUMMARY:Talvise vastuvõtu veebiinfotund
DTSTAMP:20250108T170000
DTSTART:20250108T170000
DTEND:20250108T180000
LOCATION:
DESCRIPTION: <div class="xdj266r x11i5rnm xat24cr x1mh8g0r x1vvkbs">Kolmapäeval, 8. jaanuaril 2025 ootame kõiki huvilisi HKHK veebiinfotundi, kus tutvustame talvise vastuvõtu erialade ja täiendkoolituste sisu ja õppekorraldust!</div><div class="xdj266r x11i5rnm xat24cr x1mh8g0r x1vvkbs">&nbsp;</div><div class="x11i5rnm xat24cr x1mh8g0r x1vvkbs xtlvy1s">Kui Sulle on mõni eriala silma jäänud ja tahad sellest rohkem kuulda või täpsemalt küsida, siis tule osale infotunnis ja saa kõikidele tekkinud küsimustele vastused!</div><div class="x11i5rnm xat24cr x1mh8g0r x1vvkbs xtlvy1s">&nbsp;</div><div class="x11i5rnm xat24cr x1mh8g0r x1vvkbs xtlvy1s">Infotund toimub 8. jaanuaril kell 17-18 Google Meetis (vajuta lingile ja liitu infotunniga).<br>Google Meetis osalemise link: <a class="x1i10hfl xjbqb8w x1ejq31n xd10rxx x1sy0etr x17r0tee x972fbf xcfux6l x1qhh985 xm0m39n x9f619 x1ypdohk xt0psk2 xe8uvvx xdj266r x11i5rnm xat24cr x1mh8g0r xexx8yu x4uap5 x18d9i69 xkhd6sd x16tdsg8 x1hl2dhg xggy1nq x1a2a7pz x1sur9pj xkrqix3 x1fey0fg x1s688f" href="https://meet.google.com/rgb-bngp-ayq?fbclid=IwZXh0bgNhZW0CMTAAAR1FhzYjmhKL8akbzhWpbl1BQFi-aIYtZPXBJAd2GJD6YR8pfiZnM8Y0ZrE_aem_f6k6CJy80IM2RsQTMeZ6AQ" target="_blank"><strong>https://meet.google.com/rgb-bngp-ayq</strong></a></div><div class="x11i5rnm xat24cr x1mh8g0r x1vvkbs xtlvy1s">&nbsp;</div><div class="x11i5rnm xat24cr x1mh8g0r x1vvkbs xtlvy1s">Kohtumiseni veebiinfotunnis!</div><p><strong>Link: </strong>https://hkhk.edu.ee/et/sundmuste-kalender/talvise-vastuvotu-veebiinfotund</p><p><strong>Hind: </strong></p>
STATUS:CONFIRMED
SEQUENCE:3
X-ALT-DESC;FMTTYPE=text/html:<div class="xdj266r x11i5rnm xat24cr x1mh8g0r x1vvkbs">Kolmapäeval, 8. jaanuaril 2025 ootame kõiki huvilisi HKHK veebiinfotundi, kus tutvustame talvise vastuvõtu erialade ja täiendkoolituste sisu ja õppekorraldust!</div><div class="xdj266r x11i5rnm xat24cr x1mh8g0r x1vvkbs">&nbsp;</div><div class="x11i5rnm xat24cr x1mh8g0r x1vvkbs xtlvy1s">Kui Sulle on mõni eriala silma jäänud ja tahad sellest rohkem kuulda või täpsemalt küsida, siis tule osale infotunnis ja saa kõikidele tekkinud küsimustele vastused!</div><div class="x11i5rnm xat24cr x1mh8g0r x1vvkbs xtlvy1s">&nbsp;</div><div class="x11i5rnm xat24cr x1mh8g0r x1vvkbs xtlvy1s">Infotund toimub 8. jaanuaril kell 17-18 Google Meetis (vajuta lingile ja liitu infotunniga).<br>Google Meetis osalemise link: <a class="x1i10hfl xjbqb8w x1ejq31n xd10rxx x1sy0etr x17r0tee x972fbf xcfux6l x1qhh985 xm0m39n x9f619 x1ypdohk xt0psk2 xe8uvvx xdj266r x11i5rnm xat24cr x1mh8g0r xexx8yu x4uap5 x18d9i69 xkhd6sd x16tdsg8 x1hl2dhg xggy1nq x1a2a7pz x1sur9pj xkrqix3 x1fey0fg x1s688f" href="https://meet.google.com/rgb-bngp-ayq?fbclid=IwZXh0bgNhZW0CMTAAAR1FhzYjmhKL8akbzhWpbl1BQFi-aIYtZPXBJAd2GJD6YR8pfiZnM8Y0ZrE_aem_f6k6CJy80IM2RsQTMeZ6AQ" target="_blank"><strong>https://meet.google.com/rgb-bngp-ayq</strong></a></div><div class="x11i5rnm xat24cr x1mh8g0r x1vvkbs xtlvy1s">&nbsp;</div><div class="x11i5rnm xat24cr x1mh8g0r x1vvkbs xtlvy1s">Kohtumiseni veebiinfotunnis!</div><p><strong>Link: </strong>https://hkhk.edu.ee/et/sundmuste-kalender/talvise-vastuvotu-veebiinfotund</p><p><strong>Hind: </strong></p>
X-MICROSOFT-CDO-BUSYSTATUS:OOF
X-MICROSOFT-CDO-IMPORTANCE:1
X-MICROSOFT-DISALLOW-COUNTER:FALSE
X-MS-OLK-ALLOWEXTERNCHECK:TRUE
X-MS-OLK-CONFTYPE:0
X-MICROSOFT-CDO-ALLDAYEVENT:
X-MICROSOFT-MSNCALENDAR-ALLDAYEVENT:
END:VEVENT
END:VCALENDAR