BEGIN:VCALENDAR
PRODID:-//Microsoft Corporation//Outlook 12.0 MIMEDIR//EN
VERSION:2.0
CALSCALE:GREGORIAN
BEGIN:VEVENT
UID: 42a57df5-a6f7-4570-96b2-0867406bfe9c
SUMMARY:Õpisündmus. Kaalulangetamise raskustest ja lahendustest
DTSTAMP:20201130T170000
DTSTART:20201130T170000
DTEND:20201130T235900
LOCATION:
DESCRIPTION: <p>	<a href="https://hkhk.siseveeb.ee/veebivormid/kursused/kursuse_vaatamine?kursus=715"><strong>Registreerin</strong></a></p><p>	&nbsp;</p><p>	<strong>Maht:</strong>&nbsp;3 õppetundi</p><p>	&nbsp;</p><p>	<strong>Läbiviimise aeg:&nbsp;</strong>30. november, kell 17:00- 19:15</p><p>	&nbsp;</p><p>	<strong>Teemat avab koolitaja&nbsp;<a href="https://padlet.com/aili_tervonen/mapp?fbclid=IwAR0-XqubCga0_ucfFXAVlzVmB7IUdxtGf6kfIhITtRAHE3SsDjqGOj250-k">Aili Tervonen</a>.&nbsp;</strong>Aili on toitlustusvaldkonna kutseõpetaja tase 6. Õpetaja ja koolitaja alates 2001. aastast.</p><p>	&nbsp;</p><p>	<strong>Sihtrühm:&nbsp;</strong>ootame osalema kõiki huvilisi.</p><p>	&nbsp;</p><p>	<strong>Tee</strong><strong>mad: </strong>müüdid ja erinevad programmid, menüü koostamise alused, küsimused ja vastused</p><p>	&nbsp;</p><p>	<strong>Maksumus:&nbsp;</strong>14 eurot.&nbsp;&nbsp;<strong>Info ja registreerimine:</strong>&nbsp;koolitusjuht Ingrit Kera, koolitused@hkhk.edu.ee Telefon: 6661745, 5081016.&nbsp;Registreerimiseks on vaja registreeruda läbi kodulehe ning tutvuda&nbsp;<strong><a href="http://www.hkhk.edu.ee/wp-content/uploads/2017/04/T%C3%A4iskasvanute-koolituskursuste-l%C3%A4biviimise-kord.pdf">kursuste korraldamise korraga.</a></strong></p><p><strong>Link: </strong>https://hkhk.edu.ee/et/koolituste-kalender/opisundmus-kaalulangetamise-raskustest-ja-lahendustest</p><p><strong>Hind: </strong>14</p>
STATUS:CONFIRMED
SEQUENCE:3
X-ALT-DESC;FMTTYPE=text/html:<p>	<a href="https://hkhk.siseveeb.ee/veebivormid/kursused/kursuse_vaatamine?kursus=715"><strong>Registreerin</strong></a></p><p>	&nbsp;</p><p>	<strong>Maht:</strong>&nbsp;3 õppetundi</p><p>	&nbsp;</p><p>	<strong>Läbiviimise aeg:&nbsp;</strong>30. november, kell 17:00- 19:15</p><p>	&nbsp;</p><p>	<strong>Teemat avab koolitaja&nbsp;<a href="https://padlet.com/aili_tervonen/mapp?fbclid=IwAR0-XqubCga0_ucfFXAVlzVmB7IUdxtGf6kfIhITtRAHE3SsDjqGOj250-k">Aili Tervonen</a>.&nbsp;</strong>Aili on toitlustusvaldkonna kutseõpetaja tase 6. Õpetaja ja koolitaja alates 2001. aastast.</p><p>	&nbsp;</p><p>	<strong>Sihtrühm:&nbsp;</strong>ootame osalema kõiki huvilisi.</p><p>	&nbsp;</p><p>	<strong>Tee</strong><strong>mad: </strong>müüdid ja erinevad programmid, menüü koostamise alused, küsimused ja vastused</p><p>	&nbsp;</p><p>	<strong>Maksumus:&nbsp;</strong>14 eurot.&nbsp;&nbsp;<strong>Info ja registreerimine:</strong>&nbsp;koolitusjuht Ingrit Kera, koolitused@hkhk.edu.ee Telefon: 6661745, 5081016.&nbsp;Registreerimiseks on vaja registreeruda läbi kodulehe ning tutvuda&nbsp;<strong><a href="http://www.hkhk.edu.ee/wp-content/uploads/2017/04/T%C3%A4iskasvanute-koolituskursuste-l%C3%A4biviimise-kord.pdf">kursuste korraldamise korraga.</a></strong></p><p><strong>Link: </strong>https://hkhk.edu.ee/et/koolituste-kalender/opisundmus-kaalulangetamise-raskustest-ja-lahendustest</p><p><strong>Hind: </strong>14</p>
X-MICROSOFT-CDO-BUSYSTATUS:OOF
X-MICROSOFT-CDO-IMPORTANCE:1
X-MICROSOFT-DISALLOW-COUNTER:FALSE
X-MS-OLK-ALLOWEXTERNCHECK:TRUE
X-MS-OLK-CONFTYPE:0
X-MICROSOFT-CDO-ALLDAYEVENT:
X-MICROSOFT-MSNCALENDAR-ALLDAYEVENT:
END:VEVENT
END:VCALENDAR