BEGIN:VCALENDAR
PRODID:-//Microsoft Corporation//Outlook 12.0 MIMEDIR//EN
VERSION:2.0
CALSCALE:GREGORIAN
BEGIN:VEVENT
UID: 1769b21a-ecae-4100-82aa-1c98c2a7dc32
SUMMARY:Talvine lõpuaktus
DTSTAMP:20210219T140000
DTSTART:20210219T140000
DTEND:20210219T235900
LOCATION:Aula
DESCRIPTION: <p>	Lõpetavad järgmised õppegrupid:</p><ul>	<li>		Tegevusjuhendaja TJ-19</li>	<li>		Hooldustöötaja HT-19B</li>	<li>		Kaldkatuseehitaja KE-19</li>	<li>		Bürootöötaja BTI-19</li>	<li>		Puhastusteenindaja PT-20</li></ul><p><strong>Link: </strong>https://hkhk.edu.ee/et/sundmuste-kalender/talvine-lopuaktus</p><p><strong>Hind: </strong></p>
STATUS:CONFIRMED
SEQUENCE:3
X-ALT-DESC;FMTTYPE=text/html:<p>	Lõpetavad järgmised õppegrupid:</p><ul>	<li>		Tegevusjuhendaja TJ-19</li>	<li>		Hooldustöötaja HT-19B</li>	<li>		Kaldkatuseehitaja KE-19</li>	<li>		Bürootöötaja BTI-19</li>	<li>		Puhastusteenindaja PT-20</li></ul><p><strong>Link: </strong>https://hkhk.edu.ee/et/sundmuste-kalender/talvine-lopuaktus</p><p><strong>Hind: </strong></p>
X-MICROSOFT-CDO-BUSYSTATUS:OOF
X-MICROSOFT-CDO-IMPORTANCE:1
X-MICROSOFT-DISALLOW-COUNTER:FALSE
X-MS-OLK-ALLOWEXTERNCHECK:TRUE
X-MS-OLK-CONFTYPE:0
X-MICROSOFT-CDO-ALLDAYEVENT:
X-MICROSOFT-MSNCALENDAR-ALLDAYEVENT:
END:VEVENT
END:VCALENDAR