BEGIN:VCALENDAR
PRODID:-//Microsoft Corporation//Outlook 12.0 MIMEDIR//EN
VERSION:2.0
CALSCALE:GREGORIAN
BEGIN:VEVENT
UID: 0a026140-6e92-457a-89fb-923660a3983b
SUMMARY:Toiduhügieeni koolitus
DTSTAMP:20220606T160000
DTSTART:20220606T160000
DTEND:20220606T210000
LOCATION:
DESCRIPTION: <p>	Loe lähemalt ja registreeru: <a href="/et/koolituste-kalender/toiduhugieeni-koolitus">TOIDUHÜGIEENI KOOLITUS</a></p><p><strong>Link: </strong>https://hkhk.edu.ee/et/koolituste-kalender/toiduhugieeni-koolitus</p><p><strong>Hind: </strong>25</p>
STATUS:CONFIRMED
SEQUENCE:3
X-ALT-DESC;FMTTYPE=text/html:<p>	Loe lähemalt ja registreeru: <a href="/et/koolituste-kalender/toiduhugieeni-koolitus">TOIDUHÜGIEENI KOOLITUS</a></p><p><strong>Link: </strong>https://hkhk.edu.ee/et/koolituste-kalender/toiduhugieeni-koolitus</p><p><strong>Hind: </strong>25</p>
X-MICROSOFT-CDO-BUSYSTATUS:OOF
X-MICROSOFT-CDO-IMPORTANCE:1
X-MICROSOFT-DISALLOW-COUNTER:FALSE
X-MS-OLK-ALLOWEXTERNCHECK:TRUE
X-MS-OLK-CONFTYPE:0
X-MICROSOFT-CDO-ALLDAYEVENT:
X-MICROSOFT-MSNCALENDAR-ALLDAYEVENT:
END:VEVENT
END:VCALENDAR