BEGIN:VCALENDAR
PRODID:-//Microsoft Corporation//Outlook 12.0 MIMEDIR//EN
VERSION:2.0
CALSCALE:GREGORIAN
BEGIN:VEVENT
UID: e4e625fa-e117-4339-9667-04eb8988b7a5
SUMMARY:Heaolu pärastlõuna Perakülas (matk kooliperele)
DTSTAMP:20220517T123000
DTSTART:20220517T123000
DTEND:20220517T163000
LOCATION:
DESCRIPTION: <p><strong>Link: </strong>https://hkhk.edu.ee/et/sundmuste-kalender/heaolu-parastlouna-perakulas-matk-kooliperele</p><p><strong>Hind: </strong></p>
STATUS:CONFIRMED
SEQUENCE:3
X-ALT-DESC;FMTTYPE=text/html:<p><strong>Link: </strong>https://hkhk.edu.ee/et/sundmuste-kalender/heaolu-parastlouna-perakulas-matk-kooliperele</p><p><strong>Hind: </strong></p>
X-MICROSOFT-CDO-BUSYSTATUS:OOF
X-MICROSOFT-CDO-IMPORTANCE:1
X-MICROSOFT-DISALLOW-COUNTER:FALSE
X-MS-OLK-ALLOWEXTERNCHECK:TRUE
X-MS-OLK-CONFTYPE:0
X-MICROSOFT-CDO-ALLDAYEVENT:
X-MICROSOFT-MSNCALENDAR-ALLDAYEVENT:
END:VEVENT
END:VCALENDAR