BEGIN:VCALENDAR
PRODID:-//Microsoft Corporation//Outlook 12.0 MIMEDIR//EN
VERSION:2.0
CALSCALE:GREGORIAN
BEGIN:VEVENT
UID: 1d9becd5-8863-4e1b-b8f9-bc5b852e72da
SUMMARY:Lõputööde näitus „Ammetil on kuldpõhi all” 
DTSTAMP:20230704
DTSTART:20230704
DTEND:20230731
DURATION:P27D
LOCATION:Haapsalu Kultuurikeskus
DESCRIPTION: <p>	Näitusel <strong>„Ammetil on kuldpõhi all” </strong>on välja pandud Haapsalu Kutsehariduskeskuse <strong>tekstiilkäsitöö, silmuskudumise, tisleri, pehme mööbli valmistaja ja mööblirestauraatori erialade õppe- ja&nbsp; lõputööd.</strong></p><p>	Näitus on avatud 4.-30. juuli Haapsalu Kultuurikeskuses.&nbsp;</p><p><strong>Link: </strong>https://hkhk.edu.ee/et/sundmuste-kalender/loputoode-naitus-ammetil-kuldpohi-all</p><p><strong>Hind: </strong></p>
STATUS:CONFIRMED
SEQUENCE:3
X-ALT-DESC;FMTTYPE=text/html:<p>	Näitusel <strong>„Ammetil on kuldpõhi all” </strong>on välja pandud Haapsalu Kutsehariduskeskuse <strong>tekstiilkäsitöö, silmuskudumise, tisleri, pehme mööbli valmistaja ja mööblirestauraatori erialade õppe- ja&nbsp; lõputööd.</strong></p><p>	Näitus on avatud 4.-30. juuli Haapsalu Kultuurikeskuses.&nbsp;</p><p><strong>Link: </strong>https://hkhk.edu.ee/et/sundmuste-kalender/loputoode-naitus-ammetil-kuldpohi-all</p><p><strong>Hind: </strong></p>
X-MICROSOFT-CDO-BUSYSTATUS:OOF
X-MICROSOFT-CDO-IMPORTANCE:1
X-MICROSOFT-DISALLOW-COUNTER:FALSE
X-MS-OLK-ALLOWEXTERNCHECK:TRUE
X-MS-OLK-CONFTYPE:0
X-MICROSOFT-CDO-ALLDAYEVENT:1
X-MICROSOFT-MSNCALENDAR-ALLDAYEVENT:1
END:VEVENT
END:VCALENDAR