BEGIN:VCALENDAR
PRODID:-//Microsoft Corporation//Outlook 12.0 MIMEDIR//EN
VERSION:2.0
CALSCALE:GREGORIAN
BEGIN:VEVENT
UID: 769bc76e-2d99-4651-ae35-bb5194eefef1
SUMMARY:Valge Daami käsitöölaat 
DTSTAMP:20230826
DTSTART:20230826
DTEND:20230828
DURATION:P2D
LOCATION:
DESCRIPTION: <p>	<strong>Kutsume teid Valge Daami käsitöölaadale 26. ja&nbsp;27. augustil Haapsalu Promenaadile!</strong></p><p>	Ootame Sind laupäeval,&nbsp;26. augustil kell 10–19 ja pühapäeval, 27. augustil kell 10-16. Valge Daami aeg on juba kolmel aastakümnel olnud Haapsalu suve üks tähtsamaid sündmusi ning käsitöölaat pakub palju tegevust tervele perele ning kindlasti suurt&nbsp;käsitöö valikut nii ostmiseks kui ka uudistamiseks!</p><p>	Näeme laadal!</p><p><strong>Link: </strong>https://hkhk.edu.ee/et/sundmuste-kalender/valge-daami-kasitoolaat</p><p><strong>Hind: </strong></p>
STATUS:CONFIRMED
SEQUENCE:3
X-ALT-DESC;FMTTYPE=text/html:<p>	<strong>Kutsume teid Valge Daami käsitöölaadale 26. ja&nbsp;27. augustil Haapsalu Promenaadile!</strong></p><p>	Ootame Sind laupäeval,&nbsp;26. augustil kell 10–19 ja pühapäeval, 27. augustil kell 10-16. Valge Daami aeg on juba kolmel aastakümnel olnud Haapsalu suve üks tähtsamaid sündmusi ning käsitöölaat pakub palju tegevust tervele perele ning kindlasti suurt&nbsp;käsitöö valikut nii ostmiseks kui ka uudistamiseks!</p><p>	Näeme laadal!</p><p><strong>Link: </strong>https://hkhk.edu.ee/et/sundmuste-kalender/valge-daami-kasitoolaat</p><p><strong>Hind: </strong></p>
X-MICROSOFT-CDO-BUSYSTATUS:OOF
X-MICROSOFT-CDO-IMPORTANCE:1
X-MICROSOFT-DISALLOW-COUNTER:FALSE
X-MS-OLK-ALLOWEXTERNCHECK:TRUE
X-MS-OLK-CONFTYPE:0
X-MICROSOFT-CDO-ALLDAYEVENT:1
X-MICROSOFT-MSNCALENDAR-ALLDAYEVENT:1
END:VEVENT
END:VCALENDAR