BEGIN:VCALENDAR
PRODID:-//Microsoft Corporation//Outlook 12.0 MIMEDIR//EN
VERSION:2.0
CALSCALE:GREGORIAN
BEGIN:VEVENT
UID: 058fd435-3e44-4841-965b-9684067a517d
SUMMARY:HKHK lõpuaktus
DTSTAMP:20240620T140000
DTSTART:20240620T140000
DTEND:20240620T160000
LOCATION:Aula
DESCRIPTION: <p>	Lõpuaktus algab kell 14.00 Haapsalu Kutsehariduskeskuse aulas.</p><p>	<strong>Lõpetavad järgmise grupid:&nbsp;KE-22,</strong></p><p>	Abikokk (AK-22),</p><p>	Kivi- ja betoonkonstruktsioonide ehitus (E-21),</p><p>	IT-süsteemide nooremspetsialist (IT-21),</p><p>	Kokk (K-21),</p><p>	Kutsevaliku õppekava (KVA-23),</p><p>	Majutusteenindus (M-21),</p><p>	Tisler (T-21),</p><p>	Tegevusjuhendaja (TJ-23),</p><p>	Kaldkatuseehitaja (KE-22),</p><p>	HKHK Gümnaasiumi õppekava (G12-23),</p><p>	HKHK Põhikooli riiklik õppekava (PK9-23).</p><p>	&nbsp;</p><p>	Kohtumiseni HKHK-s!</p><p>	&nbsp;</p><p><strong>Link: </strong>https://hkhk.edu.ee/et/sundmuste-kalender/hkhk-lopuaktus</p><p><strong>Hind: </strong></p>
STATUS:CONFIRMED
SEQUENCE:3
X-ALT-DESC;FMTTYPE=text/html:<p>	Lõpuaktus algab kell 14.00 Haapsalu Kutsehariduskeskuse aulas.</p><p>	<strong>Lõpetavad järgmise grupid:&nbsp;KE-22,</strong></p><p>	Abikokk (AK-22),</p><p>	Kivi- ja betoonkonstruktsioonide ehitus (E-21),</p><p>	IT-süsteemide nooremspetsialist (IT-21),</p><p>	Kokk (K-21),</p><p>	Kutsevaliku õppekava (KVA-23),</p><p>	Majutusteenindus (M-21),</p><p>	Tisler (T-21),</p><p>	Tegevusjuhendaja (TJ-23),</p><p>	Kaldkatuseehitaja (KE-22),</p><p>	HKHK Gümnaasiumi õppekava (G12-23),</p><p>	HKHK Põhikooli riiklik õppekava (PK9-23).</p><p>	&nbsp;</p><p>	Kohtumiseni HKHK-s!</p><p>	&nbsp;</p><p><strong>Link: </strong>https://hkhk.edu.ee/et/sundmuste-kalender/hkhk-lopuaktus</p><p><strong>Hind: </strong></p>
X-MICROSOFT-CDO-BUSYSTATUS:OOF
X-MICROSOFT-CDO-IMPORTANCE:1
X-MICROSOFT-DISALLOW-COUNTER:FALSE
X-MS-OLK-ALLOWEXTERNCHECK:TRUE
X-MS-OLK-CONFTYPE:0
X-MICROSOFT-CDO-ALLDAYEVENT:
X-MICROSOFT-MSNCALENDAR-ALLDAYEVENT:
END:VEVENT
END:VCALENDAR