BEGIN:VCALENDAR
PRODID:-//Microsoft Corporation//Outlook 12.0 MIMEDIR//EN
VERSION:2.0
CALSCALE:GREGORIAN
BEGIN:VEVENT
UID: 954d1799-7fa8-43a8-9149-d01bbba4cd5a
SUMMARY:HKHK õpperestoran
DTSTAMP:20240524T114500
DTSTART:20240524T114500
DTEND:20240524T134500
LOCATION:
DESCRIPTION: <h4>	HKHK kevadine&nbsp;kokkade õpperestoran avab taas uksed!</h4><p>	<strong>24. mail</strong>&nbsp;saadetakse tuleproovi HKHK kolmanda kursuse&nbsp;koka eriala õpilased, kes avavad õpperestorani uksed, et pakkuda teile maitseelamusi ning parimat teenindust!</p><p>	Tähista nädala viimast tööpäeva&nbsp;erilise ja maitsva lõunapausiga!</p><p>	Meie koka eriala õpilaste poolt kokku pandud ja valmistatud imeline kolmekäiguline menüü ootab Sind ja Sinu kaaslast HKHK kevadises õpperestoranis!</p><p>	<strong>Broneeri laud juba täna, sest kohad täituvad kiiresti!</strong></p><p>	24.mail algusega kell 11.45 Haapsalu Kutsehariduskeskuse õpperestoranis.</p><p>	Laudade broneerimiseks saada meile e-kiri aadressile: kersti.oim@hkhk.edu.ee või küsi lisainfot telefonil +372 53813783.</p><p>	PS! Kohtade arv on piiratud!</p><p>	Ootame Sind!</p><p>	<a href="/sites/hkhk.edu.ee/files/uudised/kevadine_opperestoran_2024_6.png" target="_blank">Tutvu menüüga siit.&nbsp;</a></p><p><strong>Link: </strong>https://hkhk.edu.ee/et/sundmuste-kalender/hkhk-opperestoran</p><p><strong>Hind: </strong></p>
STATUS:CONFIRMED
SEQUENCE:3
X-ALT-DESC;FMTTYPE=text/html:<h4>	HKHK kevadine&nbsp;kokkade õpperestoran avab taas uksed!</h4><p>	<strong>24. mail</strong>&nbsp;saadetakse tuleproovi HKHK kolmanda kursuse&nbsp;koka eriala õpilased, kes avavad õpperestorani uksed, et pakkuda teile maitseelamusi ning parimat teenindust!</p><p>	Tähista nädala viimast tööpäeva&nbsp;erilise ja maitsva lõunapausiga!</p><p>	Meie koka eriala õpilaste poolt kokku pandud ja valmistatud imeline kolmekäiguline menüü ootab Sind ja Sinu kaaslast HKHK kevadises õpperestoranis!</p><p>	<strong>Broneeri laud juba täna, sest kohad täituvad kiiresti!</strong></p><p>	24.mail algusega kell 11.45 Haapsalu Kutsehariduskeskuse õpperestoranis.</p><p>	Laudade broneerimiseks saada meile e-kiri aadressile: kersti.oim@hkhk.edu.ee või küsi lisainfot telefonil +372 53813783.</p><p>	PS! Kohtade arv on piiratud!</p><p>	Ootame Sind!</p><p>	<a href="/sites/hkhk.edu.ee/files/uudised/kevadine_opperestoran_2024_6.png" target="_blank">Tutvu menüüga siit.&nbsp;</a></p><p><strong>Link: </strong>https://hkhk.edu.ee/et/sundmuste-kalender/hkhk-opperestoran</p><p><strong>Hind: </strong></p>
X-MICROSOFT-CDO-BUSYSTATUS:OOF
X-MICROSOFT-CDO-IMPORTANCE:1
X-MICROSOFT-DISALLOW-COUNTER:FALSE
X-MS-OLK-ALLOWEXTERNCHECK:TRUE
X-MS-OLK-CONFTYPE:0
X-MICROSOFT-CDO-ALLDAYEVENT:
X-MICROSOFT-MSNCALENDAR-ALLDAYEVENT:
END:VEVENT
END:VCALENDAR