BEGIN:VCALENDAR
PRODID:-//Microsoft Corporation//Outlook 12.0 MIMEDIR//EN
VERSION:2.0
CALSCALE:GREGORIAN
BEGIN:VEVENT
UID: cb6a4fc5-0fff-437c-a068-f2d57f27f242
SUMMARY:Lõpuaktus põhikoolijärgsetele õpilastele
DTSTAMP:20210617T120000
DTSTART:20210617T120000
DTEND:20210617T235900
LOCATION:Aula
DESCRIPTION: <p>	Lõpetavad alljärgnevad õpperühmad:</p><ul>	<li>		<a href="/et/abikokk"><strong>abikokk</strong></a>&nbsp;AK-19,</li>	<li>		<a href="/et/vastuvott/erialad/kutsevaliku-ope/kutsevaliku-oppekava"><strong>kutsevaliku õpe</strong></a>&nbsp;KVA-20,</li>	<li>		<a href="/et/vastuvott/erialad/raamatupidamine-burootoo/burooassistent"><strong>bürootöö</strong></a>&nbsp;BT-18,</li>	<li>		<a href="/et/vastuvott/erialad/ehitus/uldehitus"><strong>üldehitus</strong></a>&nbsp;E-18,</li>	<li>		<a href="/et/vastuvott/erialad/ehitus/ehitusviimistlus"><strong>ehitusviimistlus</strong></a>&nbsp;V-18,</li>	<li>		<a href="/et/vastuvott/erialad/infotehnoloogia/it-susteemide-nooremspetsialist"><strong>IT-süsteemide nooremspetsialist</strong></a>&nbsp;IT-17 ja IT-18,</li>	<li>		<strong><a href="/et/vastuvott/erialad/turism-majutus-ja-toitlustus-puhastusteenindus/kokk">kokk</a>&nbsp;</strong>K-18,</li>	<li>		<strong><a href="/et/vastuvott/erialad/turism-majutus-ja-toitlustus-puhastusteenindus/turismiteenindaja">turismiettevõtte teenindaja</a>&nbsp;</strong>M-18,</li>	<li>		<a href="/et/vastuvott/erialad/puidutoo-kasitoo-kasitoo/tisler"><strong>tisler</strong></a>&nbsp;T-18.</li></ul><p><strong>Link: </strong>https://hkhk.edu.ee/et/sundmuste-kalender/lopuaktus-pohikoolijargsetele-opilastele</p><p><strong>Hind: </strong></p>
STATUS:CONFIRMED
SEQUENCE:3
X-ALT-DESC;FMTTYPE=text/html:<p>	Lõpetavad alljärgnevad õpperühmad:</p><ul>	<li>		<a href="/et/abikokk"><strong>abikokk</strong></a>&nbsp;AK-19,</li>	<li>		<a href="/et/vastuvott/erialad/kutsevaliku-ope/kutsevaliku-oppekava"><strong>kutsevaliku õpe</strong></a>&nbsp;KVA-20,</li>	<li>		<a href="/et/vastuvott/erialad/raamatupidamine-burootoo/burooassistent"><strong>bürootöö</strong></a>&nbsp;BT-18,</li>	<li>		<a href="/et/vastuvott/erialad/ehitus/uldehitus"><strong>üldehitus</strong></a>&nbsp;E-18,</li>	<li>		<a href="/et/vastuvott/erialad/ehitus/ehitusviimistlus"><strong>ehitusviimistlus</strong></a>&nbsp;V-18,</li>	<li>		<a href="/et/vastuvott/erialad/infotehnoloogia/it-susteemide-nooremspetsialist"><strong>IT-süsteemide nooremspetsialist</strong></a>&nbsp;IT-17 ja IT-18,</li>	<li>		<strong><a href="/et/vastuvott/erialad/turism-majutus-ja-toitlustus-puhastusteenindus/kokk">kokk</a>&nbsp;</strong>K-18,</li>	<li>		<strong><a href="/et/vastuvott/erialad/turism-majutus-ja-toitlustus-puhastusteenindus/turismiteenindaja">turismiettevõtte teenindaja</a>&nbsp;</strong>M-18,</li>	<li>		<a href="/et/vastuvott/erialad/puidutoo-kasitoo-kasitoo/tisler"><strong>tisler</strong></a>&nbsp;T-18.</li></ul><p><strong>Link: </strong>https://hkhk.edu.ee/et/sundmuste-kalender/lopuaktus-pohikoolijargsetele-opilastele</p><p><strong>Hind: </strong></p>
X-MICROSOFT-CDO-BUSYSTATUS:OOF
X-MICROSOFT-CDO-IMPORTANCE:1
X-MICROSOFT-DISALLOW-COUNTER:FALSE
X-MS-OLK-ALLOWEXTERNCHECK:TRUE
X-MS-OLK-CONFTYPE:0
X-MICROSOFT-CDO-ALLDAYEVENT:
X-MICROSOFT-MSNCALENDAR-ALLDAYEVENT:
END:VEVENT
END:VCALENDAR